BEGIN:VCALENDAR
VERSION:2.0
PRODID:SchoolNow
CALSCALE:GREGORIAN
BEGIN:VEVENT
UID:6fdf1450-34da-11eb-9a95-121082dcbcbd
DTSTAMP:20201202T201034Z
SUMMARY:ACT exam
URL;VALUE=URI:https://www.albanyschools.org/schools/albanyhigh/calendar/250
 7615/act-exam
DTSTART:20201212T130000Z
DTEND:20201212T170000Z
END:VEVENT
END:VCALENDAR
