BEGIN:VCALENDAR
VERSION:2.0
PRODID:SchoolNow
CALSCALE:GREGORIAN
BEGIN:VEVENT
UID:bb956e62-34da-11eb-8322-12403a651b35
DTSTAMP:20201202T201241Z
SUMMARY:Blood drive
URL;VALUE=URI:https://www.albanyschools.org/schools/albanyhigh/calendar/250
 7616/blood-drive
DTSTART;VALUE=DATE:20210107
DTEND;VALUE=DATE:20210108
END:VEVENT
END:VCALENDAR
