BEGIN:VCALENDAR
VERSION:2.0
PRODID:SchoolNow
CALSCALE:GREGORIAN
BEGIN:VEVENT
UID:44d67046-34df-11eb-822d-0a968016e493
DTSTAMP:20201202T204655Z
SUMMARY:Senior portraits
URL;VALUE=URI:https://www.albanyschools.org/schools/albanyhigh/calendar/250
 7642/senior-portraits
DTSTART;VALUE=DATE:20210111
DTEND;VALUE=DATE:20210116
END:VEVENT
END:VCALENDAR
