BEGIN:VCALENDAR
VERSION:2.0
PRODID:SchoolNow
CALSCALE:GREGORIAN
BEGIN:VEVENT
UID:2d6ebe44-34e0-11eb-bc3c-0a968016e493
DTSTAMP:20201202T205140Z
SUMMARY:Senior portraits
URL;VALUE=URI:https://www.albanyschools.org/schools/albanyhigh/calendar/250
 7645/senior-portraits-clone
DTSTART;VALUE=DATE:20210119
DTEND;VALUE=DATE:20210123
END:VEVENT
END:VCALENDAR
