BEGIN:VCALENDAR
VERSION:2.0
PRODID:SchoolNow
CALSCALE:GREGORIAN
BEGIN:VEVENT
UID:58b9ec72-34e0-11eb-93b7-12406694c6dd
DTSTAMP:20210119T194800Z
SUMMARY:College Information Night (virtual)
URL;VALUE=URI:https://www.albanyschools.org/schools/albanyhigh/calendar/250
 7647/college-information-night-virtual
DTSTART:20210121T230000Z
DTEND:20210122T000000Z
END:VEVENT
END:VCALENDAR
