BEGIN:VCALENDAR
VERSION:2.0
PRODID:SchoolNow
CALSCALE:GREGORIAN
BEGIN:VEVENT
UID:78c756ee-34e0-11eb-a331-12403a651b35
DTSTAMP:20201202T205346Z
SUMMARY:Senior portraits
URL;VALUE=URI:https://www.albanyschools.org/schools/albanyhigh/calendar/250
 7648/senior-portraits-clone-clone
DTSTART;VALUE=DATE:20210125
DTEND;VALUE=DATE:20210130
END:VEVENT
END:VCALENDAR
