BEGIN:VCALENDAR
VERSION:2.0
PRODID:SchoolNow
CALSCALE:GREGORIAN
BEGIN:VEVENT
UID:0ca332f2-38ab-11eb-8d88-0aa6b4bb81e9
DTSTAMP:20201207T164204Z
SUMMARY:Yearbook photos: retakes and first-time
URL;VALUE=URI:https://www.albanyschools.org/schools/albanyhigh/calendar/250
 9369/yearbook-photos-retakes-and-first-time
DTSTART;VALUE=DATE:20201215
DTEND;VALUE=DATE:20201216
END:VEVENT
END:VCALENDAR
