BEGIN:VCALENDAR
VERSION:2.0
PRODID:SchoolNow
CALSCALE:GREGORIAN
BEGIN:VEVENT
UID:4face226-3e52-11eb-8b29-127d5a625c27
DTSTAMP:20201214T212120Z
SUMMARY:Career Presentation: Sprinkler Fitters Local 669
URL;VALUE=URI:https://www.albanyschools.org/schools/albanyhigh/calendar/251
 1895/career-presentation-sprinkler-fitters-local-669
DTSTART:20201216T193000Z
DTEND:20201216T203000Z
END:VEVENT
END:VCALENDAR
