BEGIN:VCALENDAR
VERSION:2.0
PRODID:SchoolNow
CALSCALE:GREGORIAN
BEGIN:VEVENT
UID:b3d41170-3e52-11eb-987d-12aacbb59227
DTSTAMP:20201214T212409Z
SUMMARY:Career Presentation: Sprinkler Fitters Local 669
URL;VALUE=URI:https://www.albanyschools.org/schools/albanyhigh/calendar/251
 1899/career-presentation-sprinkler-fitters-local-669-clone
DTSTART:20201218T193000Z
DTEND:20201218T203000Z
END:VEVENT
END:VCALENDAR
