BEGIN:VCALENDAR
VERSION:2.0
PRODID:SchoolNow
CALSCALE:GREGORIAN
BEGIN:VEVENT
UID:04e3c28c-4ec9-11eb-af62-0a7ab6600999
DTSTAMP:20210104T211049Z
SUMMARY:Parent University: Teen Depression and Suicide (session 1)
URL;VALUE=URI:https://www.albanyschools.org/schools/albanyhigh/calendar/251
 8789/mts-virtual-session-1
DTSTART:20210113T000000Z
DTEND:20210113T011500Z
END:VEVENT
END:VCALENDAR
