BEGIN:VCALENDAR
VERSION:2.0
PRODID:SchoolNow
CALSCALE:GREGORIAN
BEGIN:VEVENT
UID:5644d796-5753-11eb-bff5-0eb53ea8445f
DTSTAMP:20210115T170140Z
SUMMARY:Career Presentation: Construction jobs and the carpenters' union
URL;VALUE=URI:https://www.albanyschools.org/schools/albanyhigh/calendar/252
 6081/career-presentation-construction-jobs-and-the-carpenters-union
DTSTART:20210119T193000Z
DTEND:20210119T203000Z
END:VEVENT
END:VCALENDAR
