BEGIN:VCALENDAR
VERSION:2.0
PRODID:SchoolNow
CALSCALE:GREGORIAN
BEGIN:VEVENT
UID:e6fdb044-5a6b-11eb-a51d-0a4849ff6e17
DTSTAMP:20210119T153504Z
SUMMARY:Food Drive to benefit South End Children's Cafe
URL;VALUE=URI:https://www.albanyschools.org/schools/albanyhigh/calendar/252
 7658/food-drive-to-benefit-south-end-childrens-cafe
DTSTART:20210123T180000Z
DTEND:20210123T200000Z
END:VEVENT
END:VCALENDAR
