BEGIN:VCALENDAR
VERSION:2.0
PRODID:SchoolNow
CALSCALE:GREGORIAN
BEGIN:VEVENT
UID:d6a67f20-5a6e-11eb-a1b6-0e86db3a3119
DTSTAMP:20210119T155605Z
SUMMARY:SAT exam
URL;VALUE=URI:https://www.albanyschools.org/schools/albanyhigh/calendar/252
 7671/sat-exam
DTSTART:20210313T130000Z
DTEND:20210313T140000Z
END:VEVENT
END:VCALENDAR
