BEGIN:VCALENDAR
VERSION:2.0
PRODID:SchoolNow
CALSCALE:GREGORIAN
BEGIN:VEVENT
UID:2b91b69e-5a6f-11eb-b7a3-0e86db3a3119
DTSTAMP:20210119T155828Z
SUMMARY:March PTSA meeting (virtual)
URL;VALUE=URI:https://www.albanyschools.org/schools/albanyhigh/calendar/252
 7678/march-ptsa-meeting-virtual
DTSTART:20210316T213000Z
DTEND:20210316T223000Z
END:VEVENT
END:VCALENDAR
