BEGIN:VCALENDAR
VERSION:2.0
PRODID:SchoolNow
CALSCALE:GREGORIAN
BEGIN:VEVENT
UID:fed7d1a2-8371-11eb-b80d-0a073cb36007
DTSTAMP:20210312T203304Z
SUMMARY:Anti-racism assembly for seniors
URL;VALUE=URI:https://www.albanyschools.org/schools/albanyhigh/calendar/255
 5646/anti-racism-assembly-for-seniors
DTSTART:20210322T183000Z
DTEND:20210322T193000Z
END:VEVENT
END:VCALENDAR
