BEGIN:VCALENDAR
VERSION:2.0
PRODID:SchoolNow
CALSCALE:GREGORIAN
BEGIN:VEVENT
UID:36a418ca-8372-11eb-a5ad-0a073cb36007
DTSTAMP:20210312T203424Z
SUMMARY:Anti-racism assembly for juniors
URL;VALUE=URI:https://www.albanyschools.org/schools/albanyhigh/calendar/255
 5647/anti-racism-assembly-for-juniors
DTSTART:20210324T183000Z
DTEND:20210324T193000Z
END:VEVENT
END:VCALENDAR
