BEGIN:VCALENDAR
VERSION:2.0
PRODID:SchoolNow
CALSCALE:GREGORIAN
BEGIN:VEVENT
UID:4fc16f38-8372-11eb-867e-0a073cb36007
DTSTAMP:20210312T203415Z
SUMMARY:Anti-racism assembly for sophomores
URL;VALUE=URI:https://www.albanyschools.org/schools/albanyhigh/calendar/255
 5648/anti-racism-assembly-for-sophomores
DTSTART:20210326T183000Z
DTEND:20210326T193000Z
END:VEVENT
END:VCALENDAR
