BEGIN:VCALENDAR
VERSION:2.0
PRODID:SchoolNow
CALSCALE:GREGORIAN
BEGIN:VEVENT
UID:6ff72ed2-8372-11eb-b14c-0a073cb36007
DTSTAMP:20210312T203509Z
SUMMARY:Anti-racism assembly for freshmen
URL;VALUE=URI:https://www.albanyschools.org/schools/albanyhigh/calendar/255
 5649/anti-racism-assembly-for-freshmen
DTSTART:20210330T183000Z
DTEND:20210330T193000Z
END:VEVENT
END:VCALENDAR
