BEGIN:VCALENDAR
VERSION:2.0
PRODID:SchoolNow
CALSCALE:GREGORIAN
BEGIN:VEVENT
UID:0760e9d8-987d-11eb-a2f9-0a1683b70a27
DTSTAMP:20210408T151352Z
SUMMARY:Regents exam: English Language Arts
URL;VALUE=URI:https://www.albanyschools.org/schools/albanyhigh/calendar/256
 8719/regents-exam-english-language-arts
DTSTART:20210617T131500Z
DTEND:20210617T161500Z
END:VEVENT
END:VCALENDAR
