BEGIN:VCALENDAR
VERSION:2.0
PRODID:SchoolNow
CALSCALE:GREGORIAN
BEGIN:VEVENT
UID:2b8f7e82-987d-11eb-bbc8-0a1683b70a27
DTSTAMP:20210408T151453Z
SUMMARY:Regents exam: Living Environment
URL;VALUE=URI:https://www.albanyschools.org/schools/albanyhigh/calendar/256
 8720/regents-exam-living-environment
DTSTART:20210622T131500Z
DTEND:20210622T161500Z
END:VEVENT
END:VCALENDAR
