BEGIN:VCALENDAR
VERSION:2.0
PRODID:SchoolNow
CALSCALE:GREGORIAN
BEGIN:VEVENT
UID:939a098e-987d-11eb-a0ec-0a1683b70a27
DTSTAMP:20210408T151747Z
SUMMARY:Regents exam: Algebra I
URL;VALUE=URI:https://www.albanyschools.org/schools/albanyhigh/calendar/256
 8724/regents-exam-algebra-i
DTSTART:20210623T131500Z
DTEND:20210623T161500Z
END:VEVENT
END:VCALENDAR
