BEGIN:VCALENDAR
VERSION:2.0
PRODID:SchoolNow
CALSCALE:GREGORIAN
BEGIN:VEVENT
UID:9c0d3834-987d-11eb-86f2-0a1683b70a27
DTSTAMP:20210408T151802Z
SUMMARY:Regents exam: Earth Science
URL;VALUE=URI:https://www.albanyschools.org/schools/albanyhigh/calendar/256
 8725/regents-exam-earth-science
DTSTART:20210624T131500Z
DTEND:20210624T161500Z
END:VEVENT
END:VCALENDAR
