BEGIN:VCALENDAR
VERSION:2.0
PRODID:SchoolNow
CALSCALE:GREGORIAN
BEGIN:VEVENT
UID:46586e7a-9c6c-11eb-9222-02897043678f
DTSTAMP:20210413T152401Z
SUMMARY:AP/IB exams
URL;VALUE=URI:https://www.albanyschools.org/schools/albanyhigh/calendar/257
 4771/ap-ib-exams
DTSTART;VALUE=DATE:20210503
DTEND;VALUE=DATE:20210622
END:VEVENT
END:VCALENDAR
