BEGIN:VCALENDAR
VERSION:2.0
PRODID:SchoolNow
CALSCALE:GREGORIAN
BEGIN:VEVENT
UID:66a616f0-9c6c-11eb-8333-0e270ee35b77
DTSTAMP:20210413T152944Z
SUMMARY:SAT exam
URL;VALUE=URI:https://www.albanyschools.org/schools/albanyhigh/calendar/257
 4787/sat-exam
DTSTART:20210508T130000Z
DTEND:20210508T160000Z
END:VEVENT
END:VCALENDAR
