BEGIN:VCALENDAR
VERSION:2.0
PRODID:SchoolNow
CALSCALE:GREGORIAN
BEGIN:VEVENT
UID:f511919e-9c6c-11eb-9c87-02897043678f
DTSTAMP:20210413T152854Z
SUMMARY:SAT exam
URL;VALUE=URI:https://www.albanyschools.org/schools/albanyhigh/calendar/257
 4818/sat-exam
DTSTART:20210605T120000Z
DTEND:20210605T160000Z
END:VEVENT
END:VCALENDAR
