BEGIN:VCALENDAR
VERSION:2.0
PRODID:SchoolNow
CALSCALE:GREGORIAN
BEGIN:VEVENT
UID:ab199832-9c6e-11eb-b4bf-0a57593a2c6d
DTSTAMP:20210505T200717Z
SUMMARY:Junior-Senior Awards Night (virtual)
URL;VALUE=URI:https://www.albanyschools.org/schools/albanyhigh/calendar/257
 4844/junior-senior-awards-night-virtual
DTSTART:20210616T220000Z
DTEND:20210616T230000Z
END:VEVENT
END:VCALENDAR
