BEGIN:VCALENDAR
VERSION:2.0
PRODID:SchoolNow
CALSCALE:GREGORIAN
BEGIN:VEVENT
UID:888844f4-adde-11eb-bd8b-0231e01449d5
DTSTAMP:20210604T180854Z
SUMMARY:Class of 2021 Commencement Ceremonies
LOCATION:Albany High School
URL;VALUE=URI:https://www.albanyschools.org/schools/albanyhigh/calendar/259
 4361/class-of-2021-commencement-ceremonies
DTSTART:20210627T130000Z
DTEND:20210627T190000Z
END:VEVENT
END:VCALENDAR
