BEGIN:VCALENDAR
VERSION:2.0
PRODID:SchoolNow
CALSCALE:GREGORIAN
BEGIN:VEVENT
UID:e26b60b4-adde-11eb-8d12-0a0740573357
DTSTAMP:20210604T181119Z
SUMMARY:Senior Prom
URL;VALUE=URI:https://www.albanyschools.org/schools/albanyhigh/calendar/259
 4362/senior-prom
DTSTART:20210619T210000Z
DTEND:20210620T000000Z
END:VEVENT
END:VCALENDAR
