BEGIN:VCALENDAR
VERSION:2.0
PRODID:SchoolNow
CALSCALE:GREGORIAN
BEGIN:VEVENT
UID:a7abb240-ae9b-11eb-a94d-02adcd153259
DTSTAMP:20210506T184832Z
SUMMARY:Parent University: Stress and Trauma (5/19)
URL;VALUE=URI:https://www.albanyschools.org/schools/albanyhigh/calendar/259
 5068/stress-5-19
DTSTART:20210519T230000Z
DTEND:20210520T000000Z
END:VEVENT
END:VCALENDAR
