BEGIN:VCALENDAR
VERSION:2.0
PRODID:SchoolNow
CALSCALE:GREGORIAN
BEGIN:VEVENT
UID:bcc4e230-c612-11eb-8933-0e35a0fc6e4b
DTSTAMP:20210605T152854Z
SUMMARY:Last day of classes
URL;VALUE=URI:https://www.albanyschools.org/schools/albanyhigh/calendar/261
 1786/last-day-of-classes
DTSTART;VALUE=DATE:20210621
DTEND;VALUE=DATE:20210622
END:VEVENT
END:VCALENDAR
