BEGIN:VCALENDAR
VERSION:2.0
PRODID:SchoolNow
CALSCALE:GREGORIAN
BEGIN:VEVENT
UID:e5dc627c-c934-11eb-96e2-0ae7a8c1b8d7
DTSTAMP:20210609T151059Z
SUMMARY:National Technical Honor Society induction (virtual)
URL;VALUE=URI:https://www.albanyschools.org/schools/albanyhigh/calendar/261
 5766/national-technical-honor-society-induction-virtual
DTSTART:20210611T220000Z
DTEND:20210611T230000Z
END:VEVENT
END:VCALENDAR
