BEGIN:VCALENDAR
VERSION:2.0
PRODID:SchoolNow
CALSCALE:GREGORIAN
BEGIN:VEVENT
UID:cc455526-cd4e-11eb-a44a-0a7f11e2523d
DTSTAMP:20210615T183941Z
SUMMARY:Field Day\, Grades 9-11\, last names M-Z
URL;VALUE=URI:https://www.albanyschools.org/schools/albanyhigh/calendar/261
 9850/field-day-grades-9-11-last-names-a-l
DTSTART:20210618T183000Z
DTEND:20210618T193000Z
END:VEVENT
END:VCALENDAR
