BEGIN:VCALENDAR
VERSION:2.0
PRODID:SchoolNow
CALSCALE:GREGORIAN
BEGIN:VEVENT
UID:dbcf8232-cd4e-11eb-a7d7-0af6fb6cce09
DTSTAMP:20210615T183957Z
SUMMARY:Field Day\, Grades 9-11\, last names A-L
URL;VALUE=URI:https://www.albanyschools.org/schools/albanyhigh/calendar/261
 9851/field-day-grades-9-11-last-names-m-z
DTSTART:20210621T183000Z
DTEND:20210621T193000Z
END:VEVENT
END:VCALENDAR
