BEGIN:VCALENDAR
VERSION:2.0
PRODID:SchoolNow
CALSCALE:GREGORIAN
BEGIN:VEVENT
UID:069493a2-ce05-11eb-a3fd-02f2b823f437
DTSTAMP:20210617T181507Z
SUMMARY:Senior meeting
URL;VALUE=URI:https://www.albanyschools.org/schools/albanyhigh/calendar/262
 0440/senior-meeting
DTSTART:20210618T133000Z
DTEND:20210618T143000Z
END:VEVENT
END:VCALENDAR
