BEGIN:VCALENDAR
VERSION:2.0
PRODID:SchoolNow
CALSCALE:GREGORIAN
BEGIN:VEVENT
UID:fafa4d70-ceb3-11eb-9756-0296607c9f87
DTSTAMP:20211019T194341Z
SUMMARY:High school winter sports begin
URL;VALUE=URI:https://www.albanyschools.org/schools/albanyhigh/calendar/262
 1032/high-school-winter-sports-begin
DTSTART;VALUE=DATE:20211115
DTEND;VALUE=DATE:20211116
END:VEVENT
END:VCALENDAR
