BEGIN:VCALENDAR
VERSION:2.0
PRODID:SchoolNow
CALSCALE:GREGORIAN
BEGIN:VEVENT
UID:46b13828-ceb4-11eb-9bc6-0a95e0965733
DTSTAMP:20210616T150524Z
SUMMARY:High school spring sports begin
URL;VALUE=URI:https://www.albanyschools.org/schools/albanyhigh/calendar/262
 1041/high-school-spring-sports-begin
DTSTART:20220314T150400Z
DTEND:20220314T160400Z
END:VEVENT
END:VCALENDAR
