BEGIN:VCALENDAR
VERSION:2.0
PRODID:SchoolNow
CALSCALE:GREGORIAN
BEGIN:VEVENT
UID:3c5b686a-e310-11eb-af91-0ef5ffbf8fd9
DTSTAMP:20210825T171334Z
SUMMARY:Grade 9 Orientation (last names A-L)
URL;VALUE=URI:https://www.albanyschools.org/schools/albanyhigh/calendar/263
 7496/grade-9-orientation-morning-last-names-a-l
DTSTART:20210902T123000Z
DTEND:20210902T153000Z
END:VEVENT
END:VCALENDAR
