BEGIN:VCALENDAR
VERSION:2.0
PRODID:SchoolNow
CALSCALE:GREGORIAN
BEGIN:VEVENT
UID:741823e2-e310-11eb-a3ce-020fb0d665c5
DTSTAMP:20210825T171410Z
SUMMARY:Grade 9 Orientation (last names M-Z)
URL;VALUE=URI:https://www.albanyschools.org/schools/albanyhigh/calendar/263
 7497/grade-9-orientation-afternoon-last-names-m-z
DTSTART:20210902T163000Z
DTEND:20210902T193000Z
END:VEVENT
END:VCALENDAR
