BEGIN:VCALENDAR
VERSION:2.0
PRODID:SchoolNow
CALSCALE:GREGORIAN
BEGIN:VEVENT
UID:c588e798-e310-11eb-b4e8-0aea16538331
DTSTAMP:20210825T171725Z
SUMMARY:Grades 10-12 Orientation (last names M-Z)
URL;VALUE=URI:https://www.albanyschools.org/schools/albanyhigh/calendar/263
 7499/grades-10-12-orientation-afternoon-last-names-m-z
DTSTART:20210903T163000Z
DTEND:20210903T193000Z
END:VEVENT
END:VCALENDAR
