BEGIN:VCALENDAR
VERSION:2.0
PRODID:SchoolNow
CALSCALE:GREGORIAN
BEGIN:VEVENT
UID:799814ac-e63b-11eb-9a83-0a9c11f30fab
DTSTAMP:20210716T134108Z
SUMMARY:Registration starts for fall JV and varsity sports
URL;VALUE=URI:https://www.albanyschools.org/schools/albanyhigh/calendar/263
 9827/registration-starts-for-fall-jv-and-varsity-sports
DTSTART;VALUE=DATE:20210723
DTEND;VALUE=DATE:20210724
END:VEVENT
END:VCALENDAR
