BEGIN:VCALENDAR
VERSION:2.0
PRODID:SchoolNow
CALSCALE:GREGORIAN
BEGIN:VEVENT
UID:90c60404-e63b-11eb-9928-0a9c11f30fab
DTSTAMP:20210716T134147Z
SUMMARY:Fall JV and varsity sports begin
URL;VALUE=URI:https://www.albanyschools.org/schools/albanyhigh/calendar/263
 9834/fall-high-school-sports-begin
DTSTART;VALUE=DATE:20210823
DTEND;VALUE=DATE:20210824
END:VEVENT
END:VCALENDAR
