BEGIN:VCALENDAR
VERSION:2.0
PRODID:SchoolNow
CALSCALE:GREGORIAN
BEGIN:VEVENT
UID:2423ce1e-efd5-11eb-a0cc-0abd3382a785
DTSTAMP:20210728T185347Z
SUMMARY:Academy lottery applications available
URL;VALUE=URI:https://www.albanyschools.org/schools/albanyhigh/calendar/264
 9624/academy-lottery-applications-available
DTSTART:20211004T185300Z
DTEND:20211004T195300Z
END:VEVENT
END:VCALENDAR
