BEGIN:VCALENDAR
VERSION:2.0
PRODID:SchoolNow
CALSCALE:GREGORIAN
BEGIN:VEVENT
UID:3a8690a6-efd5-11eb-ac36-0abd3382a785
DTSTAMP:20210728T185425Z
SUMMARY:Academy lottery applications due
URL;VALUE=URI:https://www.albanyschools.org/schools/albanyhigh/calendar/264
 9625/academy-lottery-applications-due
DTSTART;VALUE=DATE:20211112
DTEND;VALUE=DATE:20211113
END:VEVENT
END:VCALENDAR
