BEGIN:VCALENDAR
VERSION:2.0
PRODID:SchoolNow
CALSCALE:GREGORIAN
BEGIN:VEVENT
UID:6ec126a6-efd5-11eb-85d8-025f6550bf6f
DTSTAMP:20210728T185751Z
SUMMARY:Academy lottery
URL;VALUE=URI:https://www.albanyschools.org/schools/albanyhigh/calendar/264
 9626/academy-lottery
DTSTART:20211210T195400Z
DTEND:20211210T205400Z
END:VEVENT
END:VCALENDAR
