BEGIN:VCALENDAR
VERSION:2.0
PRODID:SchoolNow
CALSCALE:GREGORIAN
BEGIN:VEVENT
UID:0d9cfafc-efd6-11eb-bfcd-0a85b45a60b5
DTSTAMP:20210728T190407Z
SUMMARY:SAT exam
LOCATION:Third floor\, new building
URL;VALUE=URI:https://www.albanyschools.org/schools/albanyhigh/calendar/264
 9627/sat-exam
DTSTART:20210828T120000Z
DTEND:20210828T130000Z
END:VEVENT
END:VCALENDAR
