BEGIN:VCALENDAR
VERSION:2.0
PRODID:SchoolNow
CALSCALE:GREGORIAN
BEGIN:VEVENT
UID:15ca0f1a-efd8-11eb-bc80-0abd3382a785
DTSTAMP:20210728T191539Z
SUMMARY:Blood Drive (10/7)
URL;VALUE=URI:https://www.albanyschools.org/schools/albanyhigh/calendar/264
 9635/blood-drive
DTSTART;VALUE=DATE:20211007
DTEND;VALUE=DATE:20211008
END:VEVENT
END:VCALENDAR
