BEGIN:VCALENDAR
VERSION:2.0
PRODID:SchoolNow
CALSCALE:GREGORIAN
BEGIN:VEVENT
UID:512ab08c-efd8-11eb-a415-0a8619b835f7
DTSTAMP:20210728T191631Z
SUMMARY:Blood Drive (1/27)
URL;VALUE=URI:https://www.albanyschools.org/schools/albanyhigh/calendar/264
 9636/blood-drive-1-27
DTSTART;VALUE=DATE:20220127
DTEND;VALUE=DATE:20220128
END:VEVENT
END:VCALENDAR
