BEGIN:VCALENDAR
VERSION:2.0
PRODID:SchoolNow
CALSCALE:GREGORIAN
BEGIN:VEVENT
UID:77e8326c-efd8-11eb-8d29-0a85b45a60b5
DTSTAMP:20210728T191736Z
SUMMARY:Blood Drive (6/8)
URL;VALUE=URI:https://www.albanyschools.org/schools/albanyhigh/calendar/264
 9637/blood-drive-1-27-clone
DTSTART;VALUE=DATE:20220608
DTEND;VALUE=DATE:20220609
END:VEVENT
END:VCALENDAR
