BEGIN:VCALENDAR
VERSION:2.0
PRODID:SchoolNow
CALSCALE:GREGORIAN
BEGIN:VEVENT
UID:456fca12-f617-11eb-8148-02699dc4d475
DTSTAMP:20210805T180217Z
SUMMARY:Cheerleading interest meeting
URL;VALUE=URI:https://www.albanyschools.org/schools/albanyhigh/calendar/265
 6228/cheerleading-interest-meeting
DTSTART:20210810T163000Z
DTEND:20210810T173000Z
END:VEVENT
END:VCALENDAR
