BEGIN:VCALENDAR
VERSION:2.0
PRODID:SchoolNow
CALSCALE:GREGORIAN
BEGIN:VEVENT
UID:bff173d4-05c7-11ec-8cf9-0ee39c5ff37b
DTSTAMP:20210825T171321Z
SUMMARY:Grades 10-12 Orientation (last names A-L)
URL;VALUE=URI:https://www.albanyschools.org/schools/albanyhigh/calendar/268
 8569/grades-10-12-orientation-afternoon-last-names-m-z-clone
DTSTART:20210903T123000Z
DTEND:20210903T153000Z
END:VEVENT
END:VCALENDAR
